BEGIN:VCALENDAR
VERSION:2.0
PRODID:-// - ECPv6.15.20//NONSGML v1.0//EN
CALSCALE:GREGORIAN
METHOD:PUBLISH
X-ORIGINAL-URL:https://federation-ouest-francoprovencal.fr
X-WR-CALDESC:Évènements pour 
REFRESH-INTERVAL;VALUE=DURATION:PT1H
X-Robots-Tag:noindex
X-PUBLISHED-TTL:PT1H
BEGIN:VTIMEZONE
TZID:Europe/Paris
BEGIN:DAYLIGHT
TZOFFSETFROM:+0100
TZOFFSETTO:+0200
TZNAME:CEST
DTSTART:20250330T010000
END:DAYLIGHT
BEGIN:STANDARD
TZOFFSETFROM:+0200
TZOFFSETTO:+0100
TZNAME:CET
DTSTART:20251026T010000
END:STANDARD
BEGIN:DAYLIGHT
TZOFFSETFROM:+0100
TZOFFSETTO:+0200
TZNAME:CEST
DTSTART:20260329T010000
END:DAYLIGHT
BEGIN:STANDARD
TZOFFSETFROM:+0200
TZOFFSETTO:+0100
TZNAME:CET
DTSTART:20261025T010000
END:STANDARD
BEGIN:DAYLIGHT
TZOFFSETFROM:+0100
TZOFFSETTO:+0200
TZNAME:CEST
DTSTART:20270328T010000
END:DAYLIGHT
BEGIN:STANDARD
TZOFFSETFROM:+0200
TZOFFSETTO:+0100
TZNAME:CET
DTSTART:20271031T010000
END:STANDARD
END:VTIMEZONE
BEGIN:VEVENT
DTSTART;TZID=Europe/Paris:20260425T140000
DTEND;TZID=Europe/Paris:20260425T190000
DTSTAMP:20260420T031540
CREATED:20260331T165348Z
LAST-MODIFIED:20260331T165351Z
UID:2827-1777125600-1777143600@federation-ouest-francoprovencal.fr
SUMMARY:
DESCRIPTION:Aveize – Rincontra de Patois organisé par l’AFPL. Plus d’infos en suivant ce lien : https://federation-ouest-francoprovencal.fr/contact-afpl/rincontra-de-patois-2026/
URL:https://federation-ouest-francoprovencal.fr/evenement/2827/
END:VEVENT
BEGIN:VEVENT
DTSTART;TZID=Europe/Paris:20260530T080000
DTEND;TZID=Europe/Paris:20260530T170000
DTSTAMP:20260420T031540
CREATED:20260416T183615Z
LAST-MODIFIED:20260416T183724Z
UID:2839-1780128000-1780160400@federation-ouest-francoprovencal.fr
SUMMARY:Biennale des langues 2026
DESCRIPTION:Le samedi 30 mai à 16h\, le groupe de Saint Julien fera une intervention dans le cadre d’un café des langues. Réservation nécessaire.Lieu : Centre Berthelot Lyon 7. \n\n\n\n\nBiennale des langues 2026
URL:https://federation-ouest-francoprovencal.fr/evenement/biennale-des-langues-2026/
END:VEVENT
BEGIN:VEVENT
DTSTART;TZID=Europe/Paris:20260606T080000
DTEND;TZID=Europe/Paris:20260606T170000
DTSTAMP:20260420T031540
CREATED:20260416T183955Z
LAST-MODIFIED:20260416T183957Z
UID:2842-1780732800-1780765200@federation-ouest-francoprovencal.fr
SUMMARY:Fête du village de Saint Marcel (01)
DESCRIPTION:Fête du village de Saint Martin avec la participation de l’association SMHA (Saint Marcel d’Hier à Aujourd’hui)
URL:https://federation-ouest-francoprovencal.fr/evenement/fete-du-village-de-saint-marcel-01/
END:VEVENT
END:VCALENDAR